Workbook

Sheet Tabelle1
A1: Tarif- | B1: Leistung | C1: Zeitaufwand | D1: Anzahl | E1: Preis
A2: Position Position tarifaire | B2: Prestation | C2: Temps | D2: Taxpunkte | E2: Prix
D3: Points taxe
A4: Prävention
A5: 9100 | B5: Anamnese / Befundaufnahme neuer Patient | D5: 9 | E5: 27 | G5: =A5 -> 9100 | H5: =B5 -> Anamnese / Befundaufnahme neuer Patient | I5: =C5 -> 0 | J5: =D5 -> 9 | K5: =E5 -> 27
A6: 9101 | B6: Anamnese / Befundaufnahme Recall-Patient | D6: 5 | E6: 15 | G6: =A6 -> 9101 | H6: =B6 -> Anamnese / Befundaufnahme Recall-Patient | I6: =C6 -> 0 | J6: =D6 -> 5 | K6: =E6 -> 15
B7: Anamnèse / consultation, examen
B8: patient recall
A9: 9102 | B9: Mundhygiene Instruktion, Information, Motivierung | C9: Pro | D9: 5 | E9: 15 | G9: =A9 -> 9102 | H9: =B9 -> Mundhygiene Instruktion, Information, Motivierung | I9: =C9 -> Pro | J9: =D9 -> 5 | K9: =E9 -> 15
C10: 5 Minuten
B11: Instruction d'hygiène, information, | C11: Par
B12: motivation | C12: 5 minutes
A13: 9103 | B13: Parodontalstatus | C13: Pro | D13: 5 | E13: 15 | G13: =A13 -> 9103 | H13: =B13 -> Parodontalstatus | I13: =C13 -> Pro | J13: =D13 -> 5 | K13: =E13 -> 15
C14: 5 Minuten
B15: Status parodontal | C15: Par
C16: 5 minutes
A17: 9104 | B17: Hygiene- und Entzündungsstatus | C17: Pro | D17: 5 | E17: 15 | G17: =A17 -> 9104 | H17: =B17 -> Hygiene- und Entzündungsstatus | I17: =C17 -> Pro | J17: =D17 -> 5 | K17: =E17 -> 15
C18: 5 Minuten
B19: Status d'hygiène et inflammation | C19: Par
C20: 5 minutes
A21: 9105 | B21: Für weitere Indices freilassen | G21: =A21 -> 9105 | H21: =B21 -> Für weitere Indices freilassen | I21: =C21 -> 0 | J21: =D21 -> 0 | K21: =E21 -> 0
B22: Autres indices
A23: 9106 | B23: Für weitere Indices freilassen | G23: =A23 -> 9106 | H23: =B23 -> Für weitere Indices freilassen | I23: =C23 -> 0 | J23: =D23 -> 0 | K23: =E23 -> 0
B24: Autres indices
A25: 9110 | B25: Zahnmedizinische Ernährungsberatung | C25: Pro | D25: 5 | E25: 15 | G25: =A25 -> 9110 | H25: =B25 -> Zahnmedizinische Ernährungsberatung | I25: =C25 -> Pro | J25: =D25 -> 5 | K25: =E25 -> 15
C26: 5 Minuten
B27: Conseils nutritionnels | C27: Par
C28: 5 minutes
A29: 9111 | B29: Raucherintervention | C29: Pro | D29: 5 | E29: 15 | G29: =A29 -> 9111 | H29: =B29 -> Raucherintervention | I29: =C29 -> Pro | J29: =D29 -> 5 | K29: =E29 -> 15
C30: 5 Minuten
A31: 9112 | B31: Instruktion Eltern / Kind | C31: Pro | D31: 5 | E31: 15 | G31: =A31 -> 9112 | H31: =B31 -> Instruktion Eltern / Kind | I31: =C31 -> Pro | J31: =D31 -> 5 | K31: =E31 -> 15
C32: 5 Minuten
B34: Instruction parents / enfants | C34: Par
C35: 5 minutes
A36: 9113 | B36: Erosionsberatung | C36: Pro | D36: 5 | E36: 15 | G36: =A36 -> 9113 | H36: =B36 -> Erosionsberatung | I36: =C36 -> Pro | J36: =D36 -> 5 | K36: =E36 -> 15
C37: 5 Minuten
B38: Conseils et traitement de l'érosion | C38: Par
C39: 5 minutes
A40: 9114 | B40: Gruppenprophylaxe, Öffentlichkeitsarbeit | E40: Nach individueller | G40: =A40 -> 9114 | H40: =B40 -> Gruppenprophylaxe, Öffentlichkeitsarbeit | I40: =C40 -> 0 | J40: =D40 -> 0 | K40: =E40 -> Nach individueller
E41: Absprache
B42: Prophylaxie de groupe, conférence | E42: Selon accord
A43: 9115 | B43: Fotoaufnahme | C43: Pro | D43: 8 | E43: 24 | G43: =A43 -> 9115 | H43: =B43 -> Fotoaufnahme | I43: =C43 -> Pro | J43: =D43 -> 8 | K43: =E43 -> 24
C44: 5 Minuten
B45: Prise de photographie | C45: Par
C46: 5 minutes
A47: 9116 | B47: Fotoausdruck | C47: Pro Bild | E47: Nach Aufwand | G47: =A47 -> 9116 | H47: =B47 -> Fotoausdruck | I47: =C47 -> Pro Bild | J47: =D47 -> 0 | K47: =E47 -> Nach Aufwand
B48: Impression de photographie | C48: Par photo | E48: Selon coût
A49: Therapie
A50: 9200 | B50: Zahnsteinentfernung, Politur | C50: Pro | D50: 5 | E50: 15 | G50: =A50 -> 9200 | H50: =B50 -> Zahnsteinentfernung, Politur | I50: =C50 -> Pro | J50: =D50 -> 5 | K50: =E50 -> 15
C51: 5 Minuten
B53: Elimination du tartre, polissage | C53: Par
C54: 5 minutes
A55: 9201 | B55: Nicht chirurgische Parodontaltherapie | C55: Pro | D55: 7 | E55: 21 | G55: =A55 -> 9201 | H55: =B55 -> Nicht chirurgische Parodontaltherapie | I55: =C55 -> Pro | J55: =D55 -> 7 | K55: =E55 -> 21
C56: 5 Minuten
B57: Thérapie parodontale non chirurgicale | C57: Par
C58: 5 minutes
A59: 9202 | B59: Parodontale Nachbehandlung | C59: Pro | D59: 6 | E59: 18 | G59: =A59 -> 9202 | H59: =B59 -> Parodontale Nachbehandlung | I59: =C59 -> Pro | J59: =D59 -> 6 | K59: =E59 -> 18
C60: 5 Minuten
B61: Suivi parodontal (irrigation de poches, etc.) | C61: Par
C62: 5 minutes
A63: 9203 | B63: Präventive Behandlung / Honorierung nach Zeitaufwand | C63: Pro | D63: 5 | E63: 15 | G63: =A63 -> 9203 | H63: =B63 -> Präventive Behandlung / Honorierung nach Zeitaufwand | I63: =C63 -> Pro | J63: =D63 -> 5 | K63: =E63 -> 15
C64: 5 Minuten
B65: Traitement préventif / Honoraires en fonction du temps | C65: Par
C66: 5 minutes
A67: 9204 | B67: Bakteriologischer Test (exkl. Material und Labor) | D67: 5 | E67: 15 | G67: =A67 -> 9204 | H67: =B67 -> Bakteriologischer Test (exkl. Material und Labor) | I67: =C67 -> 0 | J67: =D67 -> 5 | K67: =E67 -> 15
B68: Test bactériologique (matériel et laboratoire en sus)
A69: 9205 | B69: Speicheltest (exkl. Material und Labor) | C69: Pro | D69: 5 | E69: 15 | G69: =A69 -> 9205 | H69: =B69 -> Speicheltest (exkl. Material und Labor) | I69: =C69 -> Pro | J69: =D69 -> 5 | K69: =E69 -> 15
C70: 5 Minuten
B71: Test salivaire (matériel et laboratoire en sus) | C71: Par
C72: 5 minutes
A73: 9206 | B73: Full Mouth Disinfection inkl. Material | C73: Pro | D73: 5 | G73: =A73 -> 9206 | H73: =B73 -> Full Mouth Disinfection inkl. Material | I73: =C73 -> Pro | J73: =D73 -> 5 | K73: =E73 -> 0
C74: 5 Minuten
B75: Full Mouth Disinfection matériel incl. | C75: Par | E75: 15
C76: 5 minutes
A77: 9207 | B77: Vitalitätstest | C77: 1-6- Zähne/ | D77: 4 | E77: 12 | G77: =A77 -> 9207 | H77: =B77 -> Vitalitätstest | I77: =C77 -> 1-6- Zähne/ | J77: =D77 -> 4 | K77: =E77 -> 12
B78: Test de vitalité | C78: 1-6 dents
A79: 9208 | B79: Vitalitätstest | C79: Pro | D79: 5 | E79: 15 | G79: =A79 -> 9208 | H79: =B79 -> Vitalitätstest | I79: =C79 -> Pro | J79: =D79 -> 5 | K79: =E79 -> 15
C80: 5 Minuten
B81: Test de vitalité | C81: Par
C82: 5 minutes
A83: 9209 | B83: Desensibilisierung (exkl. Material) | C83: Pro | D83: 5 | E83: 15 | G83: =A83 -> 9209 | H83: =B83 -> Desensibilisierung (exkl. Material) | I83: =C83 -> Pro | J83: =D83 -> 5 | K83: =E83 -> 15
C84: 5 Minuten
B85: Désensibilisation (matériel en sus) | C85: Par
C86: 5 minutes
A87: 9210 | B87: Fluoridierung (exkl. Material) | C87: Pro | D87: 5 | E87: 15 | G87: =A87 -> 9210 | H87: =B87 -> Fluoridierung (exkl. Material) | I87: =C87 -> Pro | J87: =D87 -> 5 | K87: =E87 -> 15
C88: 5 Minuten
B89: Fluoration (matériel en sus) | C89: Par
C90: 5 minutes
A91: 9211 | B91: Überschussentfernung / Flg. Politur / | C91: Pro | D91: 7 | E91: 21 | G91: =A91 -> 9211 | H91: =B91 -> Überschussentfernung / Flg. Politur / | I91: =C91 -> Pro | J91: =D91 -> 7 | K91: =E91 -> 21
B92: Rekonturieren | C92: 5 Minuten
B93: Polissage d'obturation, élimination | C93: Par
B94: d'irritation iatrogène | C94: 5 minutes
A95: 9212 | B95: Provisorische Füllung | C95: Pro Zahn | D95: 7 | E95: 21 | G95: =A95 -> 9212 | H95: =B95 -> Provisorische Füllung | I95: =C95 -> Pro Zahn | J95: =D95 -> 7 | K95: =E95 -> 21
B96: Obturation provisoire | C96: Par dent
A97: 9213 | B97: Krone provisorisch rezementieren | C97: Pro Zahn | D97: 10 | E97: 30 | G97: =A97 -> 9213 | H97: =B97 -> Krone provisorisch rezementieren | I97: =C97 -> Pro Zahn | J97: =D97 -> 10 | K97: =E97 -> 30
B98: Rescellement provisoire de couronne | C98: Par dent
A99: 9214 | B99: Kofferdam | C99: Pro | D99: 7 | E99: 21 | G99: =A99 -> 9214 | H99: =B99 -> Kofferdam | I99: =C99 -> Pro | J99: =D99 -> 7 | K99: =E99 -> 21
C100: Quadrant
B101: Pose de la digue (de caoutchouc) | C101: Par
C102: quadrant
...

Sheet Tabelle2
A1: NrTarif | B1: NrTarifGruppe | C1: SSO_Nummer | D1: Bezd | E1: Bezf | F1: Bezi | G1: Privattarif | H1: Suvatarif | I1: Minimal | J1: Maximal | K1: Mitalbor | L1: Frankekbetrag | M1: Erstellt_am | N1: mutiert_am | O1: Mutierer | P1: aktiv
A2: 9000 | B2: 13 | C2: =Tabelle3!C1 -> 9100 | D2: =Tabelle3!D1 -> Anamnese / Befundaufnahme neuer Patient | G2: =Tabelle3!F1 -> 9 | H2: =G2 -> 9 | I2: =H2 -> 9 | J2: =I2 -> 9 | K2: 0 | L2: 0 | M2: 43337 | N2: 43337 | O2: 1 | P2: 1
A3: =A2+1 -> 9001 | B3: 13 | C3: =Tabelle3!C2 -> 9101 | D3: =Tabelle3!D2 -> Anamnese / Befundaufnahme Recall-Patient | G3: =Tabelle3!F2 -> 5 | H3: =G3 -> 5 | I3: =H3 -> 5 | J3: =I3 -> 5 | K3: 0 | L3: 0 | M3: 43337 | N3: 43337 | O3: 1 | P3: 1
A4: =A3+1 -> 9002 | B4: 13 | C4: =Tabelle3!C3 -> 9102 | D4: =Tabelle3!D3 -> Mundhygiene Instruktion, Information, Motivierung pro 5 Min. | G4: =Tabelle3!F3 -> 5 | H4: =G4 -> 5 | I4: =H4 -> 5 | J4: =I4 -> 5 | K4: 0 | L4: 0 | M4: 43337 | N4: 43337 | O4: 1 | P4: 1
A5: =A4+1 -> 9003 | B5: 13 | C5: =Tabelle3!C4 -> 9103 | D5: =Tabelle3!D4 -> Parodontalstatus pro 5 Min. | G5: =Tabelle3!F4 -> 5 | H5: =G5 -> 5 | I5: =H5 -> 5 | J5: =I5 -> 5 | K5: 0 | L5: 0 | M5: 43337 | N5: 43337 | O5: 1 | P5: 1
A6: =A5+1 -> 9004 | B6: 13 | C6: =Tabelle3!C5 -> 9104 | D6: =Tabelle3!D5 -> Hygiene- und Entzündungsstatus pro 5 Min. | G6: =Tabelle3!F5 -> 5 | H6: =G6 -> 5 | I6: =H6 -> 5 | J6: =I6 -> 5 | K6: 0 | L6: 0 | M6: 43337 | N6: 43337 | O6: 1 | P6: 1
A7: =A6+1 -> 9005 | B7: 13 | C7: =Tabelle3!C6 -> 9105 | D7: =Tabelle3!D6 -> Für weitere Indices freilassen | G7: =Tabelle3!F6 -> 0 | H7: =G7 -> 0 | I7: =H7 -> 0 | J7: =I7 -> 0 | K7: 0 | L7: 0 | M7: 43337 | N7: 43337 | O7: 1 | P7: 1
A8: =A7+1 -> 9006 | B8: 13 | C8: =Tabelle3!C7 -> 9106 | D8: =Tabelle3!D7 -> Für weitere Indices freilassen | G8: =Tabelle3!F7 -> 0 | H8: =G8 -> 0 | I8: =H8 -> 0 | J8: =I8 -> 0 | K8: 0 | L8: 0 | M8: 43337 | N8: 43337 | O8: 1 | P8: 1
A9: =A8+1 -> 9007 | B9: 13 | C9: =Tabelle3!C8 -> 9110 | D9: =Tabelle3!D8 -> Zahnmedizinische Ernährungsberatung pro 5 Min. | G9: =Tabelle3!F8 -> 5 | H9: =G9 -> 5 | I9: =H9 -> 5 | J9: =I9 -> 5 | K9: 0 | L9: 0 | M9: 43337 | N9: 43337 | O9: 1 | P9: 1
A10: =A9+1 -> 9008 | B10: 13 | C10: =Tabelle3!C9 -> 9111 | D10: =Tabelle3!D9 -> Raucherintervention pro 5 Min. | G10: =Tabelle3!F9 -> 5 | H10: =G10 -> 5 | I10: =H10 -> 5 | J10: =I10 -> 5 | K10: 0 | L10: 0 | M10: 43337 | N10: 43337 | O10: 1 | P10: 1
A11: =A10+1 -> 9009 | B11: 13 | C11: =Tabelle3!C10 -> 9112 | D11: =Tabelle3!D10 -> Instruktion Eltern / Kind pro 5 Min. | G11: =Tabelle3!F10 -> 5 | H11: =G11 -> 5 | I11: =H11 -> 5 | J11: =I11 -> 5 | K11: 0 | L11: 0 | M11: 43337 | N11: 43337 | O11: 1 | P11: 1
A12: =A11+1 -> 9010 | B12: 13 | C12: =Tabelle3!C11 -> 9113 | D12: =Tabelle3!D11 -> Erosionsberatung pro 5 Min. | G12: =Tabelle3!F11 -> 5 | H12: =G12 -> 5 | I12: =H12 -> 5 | J12: =I12 -> 5 | K12: 0 | L12: 0 | M12: 43337 | N12: 43337 | O12: 1 | P12: 1
A13: =A12+1 -> 9011 | B13: 13 | C13: =Tabelle3!C12 -> 9114 | D13: =Tabelle3!D12 -> Gruppenprophylaxe, Öffentlichkeitsarbeit | G13: =Tabelle3!F12 -> 0 | H13: =G13 -> 0 | I13: =H13 -> 0 | J13: =I13 -> 0 | K13: 0 | L13: 0 | M13: 43337 | N13: 43337 | O13: 1 | P13: 1
A14: =A13+1 -> 9012 | B14: 13 | C14: =Tabelle3!C13 -> 9115 | D14: =Tabelle3!D13 -> Fotoaufnahme pro 5 Min. | G14: =Tabelle3!F13 -> 8 | H14: =G14 -> 8 | I14: =H14 -> 8 | J14: =I14 -> 8 | K14: 0 | L14: 0 | M14: 43337 | N14: 43337 | O14: 1 | P14: 1
... A57: =A56+1 -> 9055 | B57: 19 | C57: =Tabelle3!C56 -> 9702 | D57: =Tabelle3!D56 -> Versäumte Sitzung PA pro 5 Min. | G57: =Tabelle3!F56 -> 2.5 | H57: =G57 -> 2.5 | I57: =H57 -> 2.5 | J57: =I57 -> 2.5 | K57: 0 | L57: 0 | M57: 43337 | N57: 43337 | O57: 1 | P57: 1

Sheet Tabelle3
C1: 9100 | D1: Anamnese / Befundaufnahme neuer Patient | E1: 0 | F1: 9 | G1: 27
C2: 9101 | D2: Anamnese / Befundaufnahme Recall-Patient | E2: 0 | F2: 5 | G2: 15
C3: 9102 | D3: Mundhygiene Instruktion, Information, Motivierung pro 5 Min. | E3: Pro | F3: 5 | G3: 15
C4: 9103 | D4: Parodontalstatus pro 5 Min. | E4: Pro | F4: 5 | G4: 15
C5: 9104 | D5: Hygiene- und Entzündungsstatus pro 5 Min. | E5: Pro | F5: 5 | G5: 15
C6: 9105 | D6: Für weitere Indices freilassen | E6: 0 | F6: 0 | G6: 0
C7: 9106 | D7: Für weitere Indices freilassen | E7: 0 | F7: 0 | G7: 0
C8: 9110 | D8: Zahnmedizinische Ernährungsberatung pro 5 Min. | E8: Pro | F8: 5 | G8: 15
C9: 9111 | D9: Raucherintervention pro 5 Min. | E9: Pro | F9: 5 | G9: 15
C10: 9112 | D10: Instruktion Eltern / Kind pro 5 Min. | E10: Pro | F10: 5 | G10: 15
C11: 9113 | D11: Erosionsberatung pro 5 Min. | E11: Pro | F11: 5 | G11: 15
C12: 9114 | D12: Gruppenprophylaxe, Öffentlichkeitsarbeit | E12: 0 | F12: 0 | G12: Nach individueller
C13: 9115 | D13: Fotoaufnahme pro 5 Min. | E13: Pro | F13: 8 | G13: 24
C14: 9116 | D14: Fotoausdruck pr Bild | E14: Pro Bild | F14: 0 | G14: Nach Aufwand
C15: 9200 | D15: Zahnsteinentfernung, Politur pro 5 Min. | E15: Pro | F15: 5 | G15: 15
C16: 9201 | D16: Nicht chirurgische Parodontaltherapie pro 5 Min. | E16: Pro | F16: 7 | G16: 21
C17: 9202 | D17: Parodontale Nachbehandlung pro 5 Min. | E17: Pro | F17: 6 | G17: 18
C18: 9203 | D18: Präventive Behandlung / Honorierung nach Zeitaufwand pro 5 Min. | E18: Pro | F18: 5 | G18: 15
C19: 9204 | D19: Bakteriologischer Test (exkl. Material und Labor) | E19: 0 | F19: 5 | G19: 15
C20: 9205 | D20: Speicheltest (exkl. Material und Labor) pro 5 Min. | E20: Pro | F20: 5 | G20: 15
C21: 9206 | D21: Full Mouth Disinfection inkl. Material pro 5 Min. | E21: Pro | F21: 5 | G21: 0
C22: 9207 | D22: Vitalitätstest 1-6 Zähne | E22: 1-6- Zähne/ | F22: 4 | G22: 12
C23: 9208 | D23: Vitalitätstest pro 5 Min. | E23: Pro | F23: 5 | G23: 15
C24: 9209 | D24: Desensibilisierung (exkl. Material) pro 5 Min. | E24: Pro | F24: 5 | G24: 15
C25: 9210 | D25: Fluoridierung (exkl. Material) pro 5 Min. | E25: Pro | F25: 5 | G25: 15
C26: 9211 | D26: Überschussentfernung / Flg. Politur /Rekonturieren pro 5 Min. | E26: Pro | F26: 7 | G26: 21
C27: 9212 | D27: Provisorische Füllung pro Zahn | E27: Pro Zahn | F27: 7 | G27: 21
C28: 9213 | D28: Krone provisorisch rezementieren pro Zahn | E28: Pro Zahn | F28: 10 | G28: 30
C29: 9214 | D29: Kofferdam pro Quadrant | E29: Pro | F29: 7 | G29: 21
C30: 9215 | D30: Fissurenversiegelung pro Zahn | E30: Pro Zahn | F30: 10 | G30: 30
C31: 9216 | D31: Abformung des Kiefers pro Kiefer | E31: Pro Kiefer | F31: 6 | G31: 18.00 + Labor
C32: 9217 | D32: Weitere Therapien | E32: 0 | F32: 0 | G32: 0
C33: 9220 | D33: Home Bleaching inkl. Abdrücke (exkl. Schiene ) | E33: 0 | F33: 0 | G33: 350
C34: 9221 | D34: Powerbleaching (exkl. Material) pro 5 Min. | E34: Pro | F34: 12 | G34: 36
C35: 9222 | D35: Powerbleaching (exkl. Material) Full mouth | E35: Full mouth | F35: 0 | G35: 800
C36: 9223 | D36: Bleaching Nachkontrolle pro 5 Min. | E36: Pro | F36: 5 | G36: 15
C37: 9224 | D37: Zahnschmuck pro Zahn (exkl. Material) pro Zahn | E37: Pro Zahn | F37: 0 | G37: 60
C38: 9225 | D38: Prothesenpflege pro 5 Min, | E38: Pro | F38: 5 | G38: 15
C39: 9226 | D39: Empfehlungen Komplementärmedizin pro 5 Min. | E39: Pro | F39: 0 | G39: Nach Tarifempfehlung Komplementärmedizin
C40: 9300 | D40: Versäumte Sitzung pro 5 Min. | E40: Pro | F40: 4 | G40: 12
C41: 9301 | D41: Praxis externe Behandlung pro 5 Min. | E41: Pro | F41: 6 | G41: 18
C42: 9302 | D42: Praxis externe Behandlung, Weg pro 5 Min. | E42: Pro | F42: 6 | G42: 18
C43: 9303 | D43: Überweisungsschreiben / Zeugnis / Bericht / KV pro 5 Min. | E43: Pro | F43: 5 | G43: 15
C44: 9304 | D44: Telefonische Beratung / Auskünfte / interdisziplinäre Informationen pro 5 Min. | E44: Pro | F44: 5 | G44: 15
C45: 9305 | D45: Konsultation mit Zahnarzt / Arzt pro 5 Min. | E45: Pro | F45: 5 | G45: 15
C46: 9306 | D46: Vermehrter Zeitaufwand pro 5 Min. | E46: Pro | F46: 5 | G46: 15
C47: 9400 | D47: Diverses Material (Desensibiliserungsmittel, Zahnschmuck, Bleichmittel usw.) | E47: 0 | F47: 0 | G47: Materialkosten
C48: 9401 | D48: Für weitere Indices freilassen | E48: 0 | F48: 0 | G48: 0
C49: 9500 | D49: z. B. Zahnbürste | E49: 0 | F49: 0 | G49: Materialkosten
C50: 9501 | D50: Für weitere Indices freilassen | E50: 0 | F50: 0 | G50: 0
C51: 9600 | D51: Röntgenaufnahme pro Bild | E51: Pro Bild | F51: 3 | G51: 9
C52: 9601 | D52: Röntgen: Interpretation pro Bild | E52: Pro Bild | F52: 3 | G52: 9
C53: 9602 | D53: Anästhesie | E53: 0 | F53: 11 | G53: 33
C54: 9700 | D54: PA-Behandlung pro 5 Min. | E54: Pro 5 | F54: 3 | G54: 9
C55: 9701 | D55: Mundhygieneinstruktion durch PA pro 5 Min. | E55: Pro 5 | F55: 3 | G55: 9
C56: 9702 | D56: Versäumte Sitzung PA pro 5 Min. | E56: Pro 5 | F56: 2.5 | G56: 7.5
